BEGIN:VCALENDAR
VERSION:2.0
PRODID:icalendar-ruby
CALSCALE:GREGORIAN
METHOD:PUBLISH
BEGIN:VEVENT
DTSTAMP:20260423T041610Z
UID:54-438953@goodshepherdwb.org
DTSTART:20260503T140000Z
DTEND:20260504T030000Z
CLASS:PUBLIC
CREATED:20260422T194844
DESCRIPTION:The Semi Annual Congragation Meeting of Good Shepherd Lutheran 
 Church will be held on May 3\, 2026 following the 9:00am worship service. 
 The agenda will include election of congregation council members and nomin
 ating committee members. Additional items may be added to the agenda up to
  the start of the meeting. Active members who have communed and made a con
 tribution of record on or after January 1\, 2025 are eligible to vote at t
 his meeting.\nAny active members interested in being nominated to congrega
 tion council or the nominating committee may reach out to Daren Bernecker 
 in person or send an email to darenb@goodshepherdwb.org.  
LAST-MODIFIED:20260422T194844
LOCATION:Good Shepherd Sanctuary
SUMMARY:Semi Annual Congregation Meeting
URL;VALUE=URI:https://goodshepherdwb.org/events/semi-annual-congregation-me
 eting--54/2026-05-03
END:VEVENT
END:VCALENDAR
